BEGIN:VCALENDAR
VERSION:2.0
PRODID:-//St. Lucie Cultural Alliance - ECPv6.15.20//NONSGML v1.0//EN
CALSCALE:GREGORIAN
METHOD:PUBLISH
X-WR-CALNAME:St. Lucie Cultural Alliance
X-ORIGINAL-URL:https://artstlucie.org
X-WR-CALDESC:Events for St. Lucie Cultural Alliance
REFRESH-INTERVAL;VALUE=DURATION:PT1H
X-Robots-Tag:noindex
X-PUBLISHED-TTL:PT1H
BEGIN:VTIMEZONE
TZID:America/New_York
BEGIN:DAYLIGHT
TZOFFSETFROM:-0500
TZOFFSETTO:-0400
TZNAME:EDT
DTSTART:20250309T070000
END:DAYLIGHT
BEGIN:STANDARD
TZOFFSETFROM:-0400
TZOFFSETTO:-0500
TZNAME:EST
DTSTART:20251102T060000
END:STANDARD
BEGIN:DAYLIGHT
TZOFFSETFROM:-0500
TZOFFSETTO:-0400
TZNAME:EDT
DTSTART:20260308T070000
END:DAYLIGHT
BEGIN:STANDARD
TZOFFSETFROM:-0400
TZOFFSETTO:-0500
TZNAME:EST
DTSTART:20261101T060000
END:STANDARD
BEGIN:DAYLIGHT
TZOFFSETFROM:-0500
TZOFFSETTO:-0400
TZNAME:EDT
DTSTART:20270314T070000
END:DAYLIGHT
BEGIN:STANDARD
TZOFFSETFROM:-0400
TZOFFSETTO:-0500
TZNAME:EST
DTSTART:20271107T060000
END:STANDARD
END:VTIMEZONE
BEGIN:VEVENT
DTSTART;TZID=America/New_York:20260410T080000
DTEND;TZID=America/New_York:20260419T210000
DTSTAMP:20260425T233014
CREATED:20260113T171643Z
LAST-MODIFIED:20260113T171643Z
UID:21078-1775808000-1776632400@artstlucie.org
SUMMARY:The Diary of Anne Frank- Treasure Coast Theatre
DESCRIPTION:The Diary of Anne Frank\nApr 10\, 2026 – Apr 19\, 2026\n\n\n\nWinner of the Tony Award and Pulitzer Prize for Best Drama\, this impassioned drama highlights the lives of eight people hiding from the Nazis in a concealed storage attic. The story captures the realities of their daily existence—their fear\, their hope\, their laughter\, their grief.
URL:https://artstlucie.org/event/the-diary-of-anne-frank-treasure-coast-theatre
CATEGORIES:Theater
ATTACH;FMTTYPE=image/jpeg:https://artstlucie.org/wp-content/uploads/2026/01/Ann_Frank.jpg
END:VEVENT
BEGIN:VEVENT
DTSTART;TZID=America/New_York:20260313T080000
DTEND;TZID=America/New_York:20260329T210000
DTSTAMP:20260425T233014
CREATED:20260113T171509Z
LAST-MODIFIED:20260113T171524Z
UID:21074-1773388800-1774818000@artstlucie.org
SUMMARY:25th Annual Putnam County Spelling Bee- Treasure Coast Theatre
DESCRIPTION:25th Annual Putnam County Spelling Bee\nMar 13\, 2026 – Mar 29\, 2026\nThis Tony award winning musical comedy features six adults portraying preteens competing in a spelling bee. While disclosing hilarious and touching stories from their home lives\, the tweens spell their way through a series of (potentially made-up) words\, hoping never to hear the soul-crushing\, pout-inducing\, life un-affirming “ding” of the bell that signals a spelling mistake. Six spellers enter; one speller
URL:https://artstlucie.org/event/plaza-suite-treasure-coast-theatre-2
CATEGORIES:Theater
ATTACH;FMTTYPE=image/jpeg:https://artstlucie.org/wp-content/uploads/2026/01/Spelling_Bee.jpg
END:VEVENT
BEGIN:VEVENT
DTSTART;TZID=America/New_York:20260213T080000
DTEND;TZID=America/New_York:20260301T210000
DTSTAMP:20260425T233014
CREATED:20260113T171328Z
LAST-MODIFIED:20260113T171328Z
UID:21071-1770969600-1772398800@artstlucie.org
SUMMARY:Plaza Suite- Treasure Coast Theatre
DESCRIPTION:Plaza Suite\nFeb 13\, 2026 – Mar 1\, 2026\n\nHilarity abounds in this hit comedy by Neil Simon which showcases three different couples successively occupying a suite at The Plaza in New York
URL:https://artstlucie.org/event/plaza-suite-treasure-coast-theatre
CATEGORIES:Theater
ATTACH;FMTTYPE=image/jpeg:https://artstlucie.org/wp-content/uploads/2026/01/Plaza_Suite.jpg
END:VEVENT
BEGIN:VEVENT
DTSTART;TZID=America/New_York:20260116T080000
DTEND;TZID=America/New_York:20260125T210000
DTSTAMP:20260425T233014
CREATED:20260113T171025Z
LAST-MODIFIED:20260113T171133Z
UID:21068-1768550400-1769374800@artstlucie.org
SUMMARY:She Loves Me- Treasure Coast Theatre
DESCRIPTION:She Loves Me\nJan 16\, 2026 – Jan 25\, 2026\n\n\n\nIn this Tony Award winning musical et in a 1930s European perfumery\, shop clerks\, Amalia and Georg don’t see eye to eye\, but they are unknowingly exchanging love letters after they both respond to a “lonely hearts advertisement” in the newspaper\, Join Amalia and Georg as they discover the identity of their true loves… and all the twists and turns along the way!
URL:https://artstlucie.org/event/she-loves-me-treasure-coast-theatre
CATEGORIES:Theater
ATTACH;FMTTYPE=image/webp:https://artstlucie.org/wp-content/uploads/2026/01/love.webp
END:VEVENT
END:VCALENDAR