BEGIN:VCALENDAR
VERSION:2.0
PRODID:-//St. Lucie Cultural Alliance - ECPv6.15.20//NONSGML v1.0//EN
CALSCALE:GREGORIAN
METHOD:PUBLISH
X-ORIGINAL-URL:https://artstlucie.org
X-WR-CALDESC:Events for St. Lucie Cultural Alliance
REFRESH-INTERVAL;VALUE=DURATION:PT1H
X-Robots-Tag:noindex
X-PUBLISHED-TTL:PT1H
BEGIN:VTIMEZONE
TZID:America/New_York
BEGIN:DAYLIGHT
TZOFFSETFROM:-0500
TZOFFSETTO:-0400
TZNAME:EDT
DTSTART:20250309T070000
END:DAYLIGHT
BEGIN:STANDARD
TZOFFSETFROM:-0400
TZOFFSETTO:-0500
TZNAME:EST
DTSTART:20251102T060000
END:STANDARD
BEGIN:DAYLIGHT
TZOFFSETFROM:-0500
TZOFFSETTO:-0400
TZNAME:EDT
DTSTART:20260308T070000
END:DAYLIGHT
BEGIN:STANDARD
TZOFFSETFROM:-0400
TZOFFSETTO:-0500
TZNAME:EST
DTSTART:20261101T060000
END:STANDARD
BEGIN:DAYLIGHT
TZOFFSETFROM:-0500
TZOFFSETTO:-0400
TZNAME:EDT
DTSTART:20270314T070000
END:DAYLIGHT
BEGIN:STANDARD
TZOFFSETFROM:-0400
TZOFFSETTO:-0500
TZNAME:EST
DTSTART:20271107T060000
END:STANDARD
END:VTIMEZONE
BEGIN:VEVENT
DTSTART;TZID=America/New_York:20260508T170000
DTEND;TZID=America/New_York:20260508T200000
DTSTAMP:20260425T203438
CREATED:20260113T155819Z
LAST-MODIFIED:20260113T162802Z
UID:20998-1778259600-1778270400@artstlucie.org
SUMMARY:Life Drawing Class
DESCRIPTION:Email or Call to sign up:\n410-553-1374 \n1Voice@InnerVoicesOuterVision.com \nDate: Every 2nd Friday of the MonthTime:  5-8 p.m. Location:  | 111 Orange Ave. Lower Level Fort Pierce\, FL 34950
URL:https://artstlucie.org/event/life-drawing-class-3
LOCATION:111 Orange Building\, 111 Orange Ave. Lower Level\, Fort Pierce\, FL\, 34950\, United States
CATEGORIES:Classes / Workshops
ATTACH;FMTTYPE=application/pdf:https://artstlucie.org/wp-content/uploads/2025/06/20180521233036_001.pdf
ORGANIZER;CN="St Lucie Cultural Alliance":MAILTO:info@artstlucie.org
END:VEVENT
END:VCALENDAR