BEGIN:VCALENDAR
VERSION:2.0
PRODID:-//St. Lucie Cultural Alliance - ECPv6.15.20//NONSGML v1.0//EN
CALSCALE:GREGORIAN
METHOD:PUBLISH
X-WR-CALNAME:St. Lucie Cultural Alliance
X-ORIGINAL-URL:https://artstlucie.org
X-WR-CALDESC:Events for St. Lucie Cultural Alliance
REFRESH-INTERVAL;VALUE=DURATION:PT1H
X-Robots-Tag:noindex
X-PUBLISHED-TTL:PT1H
BEGIN:VTIMEZONE
TZID:America/New_York
BEGIN:DAYLIGHT
TZOFFSETFROM:-0500
TZOFFSETTO:-0400
TZNAME:EDT
DTSTART:20250309T070000
END:DAYLIGHT
BEGIN:STANDARD
TZOFFSETFROM:-0400
TZOFFSETTO:-0500
TZNAME:EST
DTSTART:20251102T060000
END:STANDARD
BEGIN:DAYLIGHT
TZOFFSETFROM:-0500
TZOFFSETTO:-0400
TZNAME:EDT
DTSTART:20260308T070000
END:DAYLIGHT
BEGIN:STANDARD
TZOFFSETFROM:-0400
TZOFFSETTO:-0500
TZNAME:EST
DTSTART:20261101T060000
END:STANDARD
BEGIN:DAYLIGHT
TZOFFSETFROM:-0500
TZOFFSETTO:-0400
TZNAME:EDT
DTSTART:20270314T070000
END:DAYLIGHT
BEGIN:STANDARD
TZOFFSETFROM:-0400
TZOFFSETTO:-0500
TZNAME:EST
DTSTART:20271107T060000
END:STANDARD
END:VTIMEZONE
BEGIN:VEVENT
DTSTART;TZID=America/New_York:20260213T170000
DTEND;TZID=America/New_York:20260213T200000
DTSTAMP:20260425T123802
CREATED:20260113T210336Z
LAST-MODIFIED:20260113T200614Z
UID:20512-1771002000-1771012800@artstlucie.org
SUMMARY:Life Drawing Class
DESCRIPTION:Email or Call to sign up:\n410-553-1374 \n1Voice@InnerVoicesOuterVision.com \nDate: Every 2nd Friday of the MonthTime:  5-8 p.m. Location:  | 111 Orange Ave. Lower Level Fort Pierce\, FL 34950
URL:https://artstlucie.org/event/life-drawing-class-2
LOCATION:111 Orange Building\, 111 Orange Ave. Lower Level\, Fort Pierce\, FL\, 34950\, United States
ATTACH;FMTTYPE=application/pdf:https://artstlucie.org/wp-content/uploads/2025/06/20180521233036_001.pdf
ORGANIZER;CN="St Lucie Cultural Alliance":MAILTO:info@artstlucie.org
END:VEVENT
BEGIN:VEVENT
DTSTART;TZID=America/New_York:20260213T170000
DTEND;TZID=America/New_York:20260213T200000
DTSTAMP:20260425T123802
CREATED:20260113T210336Z
LAST-MODIFIED:20260113T200614Z
UID:20512-1771002000-1771012800@artstlucie.org
SUMMARY:Life Drawing Class
DESCRIPTION:Email or Call to sign up:\n410-553-1374 \n1Voice@InnerVoicesOuterVision.com \nDate: Every 2nd Friday of the MonthTime:  5-8 p.m. Location:  | 111 Orange Ave. Lower Level Fort Pierce\, FL 34950
URL:https://artstlucie.org/event/life-drawing-class-2
LOCATION:111 Orange Building\, 111 Orange Ave. Lower Level\, Fort Pierce\, FL\, 34950\, United States
ATTACH;FMTTYPE=application/pdf:https://artstlucie.org/wp-content/uploads/2025/06/20180521233036_001.pdf
ORGANIZER;CN="St Lucie Cultural Alliance":MAILTO:info@artstlucie.org
END:VEVENT
BEGIN:VEVENT
DTSTART;TZID=America/New_York:20260213T170000
DTEND;TZID=America/New_York:20260213T200000
DTSTAMP:20260425T123802
CREATED:20260113T210336Z
LAST-MODIFIED:20260113T200614Z
UID:20512-1771002000-1771012800@artstlucie.org
SUMMARY:Life Drawing Class
DESCRIPTION:Email or Call to sign up:\n410-553-1374 \n1Voice@InnerVoicesOuterVision.com \nDate: Every 2nd Friday of the MonthTime:  5-8 p.m. Location:  | 111 Orange Ave. Lower Level Fort Pierce\, FL 34950
URL:https://artstlucie.org/event/life-drawing-class-2
LOCATION:111 Orange Building\, 111 Orange Ave. Lower Level\, Fort Pierce\, FL\, 34950\, United States
ATTACH;FMTTYPE=application/pdf:https://artstlucie.org/wp-content/uploads/2025/06/20180521233036_001.pdf
ORGANIZER;CN="St Lucie Cultural Alliance":MAILTO:info@artstlucie.org
END:VEVENT
BEGIN:VEVENT
DTSTART;TZID=America/New_York:20260213T170000
DTEND;TZID=America/New_York:20260213T200000
DTSTAMP:20260425T123802
CREATED:20260113T210336Z
LAST-MODIFIED:20260113T200614Z
UID:20512-1771002000-1771012800@artstlucie.org
SUMMARY:Life Drawing Class
DESCRIPTION:Email or Call to sign up:\n410-553-1374 \n1Voice@InnerVoicesOuterVision.com \nDate: Every 2nd Friday of the MonthTime:  5-8 p.m. Location:  | 111 Orange Ave. Lower Level Fort Pierce\, FL 34950
URL:https://artstlucie.org/event/life-drawing-class-2
LOCATION:111 Orange Building\, 111 Orange Ave. Lower Level\, Fort Pierce\, FL\, 34950\, United States
ATTACH;FMTTYPE=application/pdf:https://artstlucie.org/wp-content/uploads/2025/06/20180521233036_001.pdf
ORGANIZER;CN="St Lucie Cultural Alliance":MAILTO:info@artstlucie.org
END:VEVENT
BEGIN:VEVENT
DTSTART;TZID=America/New_York:20260425T100000
DTEND;TZID=America/New_York:20260425T140000
DTSTAMP:20260425T123802
CREATED:20260421T161510Z
LAST-MODIFIED:20260421T161549Z
UID:21322-1777111200-1777125600@artstlucie.org
SUMMARY:Indie Bookstore Day
DESCRIPTION:
URL:https://artstlucie.org/event/indie-bookstore-day
END:VEVENT
BEGIN:VEVENT
DTSTART;TZID=America/New_York:20260425T170000
DTEND;TZID=America/New_York:20260425T200000
DTSTAMP:20260425T123802
CREATED:20260421T161231Z
LAST-MODIFIED:20260421T161231Z
UID:21315-1777136400-1777147200@artstlucie.org
SUMMARY:PSL 65 Years Anniversary Celebration
DESCRIPTION:
URL:https://artstlucie.org/event/psl-65-years-anniversary-celebration
LOCATION:Port District\, 2454SE Westmoreland Blvd\, Port Saint Lucie\, FL\, 34953\, United States
END:VEVENT
END:VCALENDAR